BEGIN:VCALENDAR
VERSION:2.0
PRODID:-//wp-events-plugin.com//7.2.3.1//EN
BEGIN:VEVENT
UID:10@tkt1957.com
DTSTART;TZID=Asia/Tashkent:20260521T130000
DTEND;TZID=Asia/Tashkent:20260521T180000
DTSTAMP:20260424T094610Z
URL:https://tkt1957.com/ru/eventor-main2/post-nab-uzbekistan-2026-tashkent
 /
SUMMARY:Post-NAB Uzbekistan 2026 — Мировые премьеры тех
 нологий телерадиовещания и кинопроизво
 дства
DESCRIPTION:Post-NAB Uzbekistan 2026 — конференция о ключ
 евых технологических новинкам\, предста
 вленным на NAB Show в Лас-Вегасе\, и их примен
 ению в условиях медиарынка Центральной 
 Азии.\n
ATTACH;FMTTYPE=image/jpeg:https://tkt1957.com/ru/wp-content/uploads/2026/0
 4/PostNAB_UZ-event-7.jpeg
CATEGORIES:Post-NAB
END:VEVENT
BEGIN:VTIMEZONE
TZID:Asia/Tashkent
X-LIC-LOCATION:Asia/Tashkent
BEGIN:STANDARD
DTSTART:20250521T130000
TZOFFSETFROM:+0500
TZOFFSETTO:+0500
TZNAME:+05
END:STANDARD
END:VTIMEZONE
END:VCALENDAR